BEGIN:VCALENDAR
VERSION:2.0
PRODID:-//Lowcountry Paver - ECPv6.15.17.1//NONSGML v1.0//EN
CALSCALE:GREGORIAN
METHOD:PUBLISH
X-WR-CALNAME:Lowcountry Paver
X-ORIGINAL-URL:https://lcpaver.com
X-WR-CALDESC:Events for Lowcountry Paver
REFRESH-INTERVAL;VALUE=DURATION:PT1H
X-Robots-Tag:noindex
X-PUBLISHED-TTL:PT1H
BEGIN:VTIMEZONE
TZID:America/New_York
BEGIN:DAYLIGHT
TZOFFSETFROM:-0500
TZOFFSETTO:-0400
TZNAME:EDT
DTSTART:20240310T070000
END:DAYLIGHT
BEGIN:STANDARD
TZOFFSETFROM:-0400
TZOFFSETTO:-0500
TZNAME:EST
DTSTART:20241103T060000
END:STANDARD
BEGIN:DAYLIGHT
TZOFFSETFROM:-0500
TZOFFSETTO:-0400
TZNAME:EDT
DTSTART:20250309T070000
END:DAYLIGHT
BEGIN:STANDARD
TZOFFSETFROM:-0400
TZOFFSETTO:-0500
TZNAME:EST
DTSTART:20251102T060000
END:STANDARD
BEGIN:DAYLIGHT
TZOFFSETFROM:-0500
TZOFFSETTO:-0400
TZNAME:EDT
DTSTART:20260308T070000
END:DAYLIGHT
BEGIN:STANDARD
TZOFFSETFROM:-0400
TZOFFSETTO:-0500
TZNAME:EST
DTSTART:20261101T060000
END:STANDARD
END:VTIMEZONE
BEGIN:VEVENT
DTSTART;TZID=America/New_York:20250403T100000
DTEND;TZID=America/New_York:20250403T140000
DTSTAMP:20260422T141011
CREATED:20250311T170009Z
LAST-MODIFIED:20250311T194332Z
UID:17995-1743674400-1743688800@lcpaver.com
SUMMARY:Paver Installation Pro Workshop: SEK Hardscape Products
DESCRIPTION:Join us April 3 at Lowcountry Paver for an engaging and informative Demo Event showcasing the latest innovations in hardscape installation and surface solutions! \nExperience live\, interactive demonstrations of: \n\nEZ Set Trass Setting Bed\nEdgeCrete Concrete Edge Restraint on Open Graded Base\nHydroSweep Resin Sand\nTrusted products including Snap Edge and PolySweep\nSurfacePRO\, our advanced Two-Part Urethane Sealer designed to protect and enhance your projects\n\nStay ahead of industry trends and master cutting-edge techniques designed to elevate your hardscape installations. Whether you’re looking to refine your skills or discover new solutions to add to your toolkit\, this event is the perfect opportunity to gain valuable insights. \nFREE TO ATTEND! \n\nLunch provided\nInteractive demonstrations\nNetworking opportunities\nExpert Q&A sessions\n\nDon’t miss out—register today!
URL:https://lcpaver.com/event/paver-installation-workshop-sek-hardscape-products/
LOCATION:Lowcountry Paver\, 535 Stiney Road\, Hardeeville\, SC\, 29927\, United States
ATTACH;FMTTYPE=image/webp:https://lcpaver.com/wp-content/uploads/2025/03/SEK-Event-Flyer-April-2025-FB-Event-1.webp
END:VEVENT
END:VCALENDAR