BEGIN:VCALENDAR
VERSION:2.0
PRODID:-//Lowcountry Paver - ECPv6.15.17.1//NONSGML v1.0//EN
CALSCALE:GREGORIAN
METHOD:PUBLISH
X-ORIGINAL-URL:https://lcpaver.com
X-WR-CALDESC:Events for Lowcountry Paver
REFRESH-INTERVAL;VALUE=DURATION:PT1H
X-Robots-Tag:noindex
X-PUBLISHED-TTL:PT1H
BEGIN:VTIMEZONE
TZID:UTC
BEGIN:STANDARD
TZOFFSETFROM:+0000
TZOFFSETTO:+0000
TZNAME:UTC
DTSTART:20230101T000000
END:STANDARD
END:VTIMEZONE
BEGIN:VEVENT
DTSTART;TZID=UTC:20240621T090000
DTEND;TZID=UTC:20240621T110000
DTSTAMP:20260423T143947
CREATED:20240603T215208Z
LAST-MODIFIED:20240605T163508Z
UID:15907-1718960400-1718967600@lcpaver.com
SUMMARY:Outdoor Lighting Installation Course with in-lite Outdoor Lighting
DESCRIPTION:Illuminate Your Hardscape Projects with in-lite Outdoor Lighting! \nJoin us for an exclusive instructional course designed to enhance your expertise and learn how to seamlessly integrate in-lite Outdoor Lighting into your driveway\, patio\, and pool projects. \nEvent Details: \n\nDate: June 21\nTime: 9:00 AM – 11:00 AM\nLocation: Lowcountry Paver HQ\, 535 Stiney Road\, Hardeeville\, SC\n\nDuring this hands-on course\, you’ll receive expert guidance on the installation of in-lite Outdoor Lighting systems. Our knowledgeable instructors will cover essential techniques and best practices to ensure your installations are both efficient and stunning. \nWhat You’ll Learn: \n\nThe benefits of integrating lighting into hardscape and landscape designs\nStep-by-step installation procedures for driveways\, patios\, and pool areas\nTips and tricks for achieving professional results\nTroubleshooting common installation challenges\n\nWhether you’re a seasoned installer or new to the industry\, this course will equip you with valuable skills to enhance your projects and satisfy your clients. Don’t miss this opportunity to expand your knowledge and network with fellow professionals. \nIlluminate your next project with confidence and style. We look forward to seeing you there!
URL:https://lcpaver.com/event/outdoor-lighting-installation-class/
LOCATION:Lowcountry Paver\, 535 Stiney Road\, Hardeeville\, SC\, 29927\, United States
ATTACH;FMTTYPE=image/webp:https://lcpaver.com/wp-content/uploads/2024/06/in-lite-event.webp
END:VEVENT
END:VCALENDAR