BEGIN:VCALENDAR
VERSION:2.0
PRODID:-//Lowcountry Paver - ECPv6.15.17.1//NONSGML v1.0//EN
CALSCALE:GREGORIAN
METHOD:PUBLISH
X-WR-CALNAME:Lowcountry Paver
X-ORIGINAL-URL:https://lcpaver.com
X-WR-CALDESC:Events for Lowcountry Paver
REFRESH-INTERVAL;VALUE=DURATION:PT1H
X-Robots-Tag:noindex
X-PUBLISHED-TTL:PT1H
BEGIN:VTIMEZONE
TZID:America/New_York
BEGIN:DAYLIGHT
TZOFFSETFROM:-0500
TZOFFSETTO:-0400
TZNAME:EDT
DTSTART:20240310T070000
END:DAYLIGHT
BEGIN:STANDARD
TZOFFSETFROM:-0400
TZOFFSETTO:-0500
TZNAME:EST
DTSTART:20241103T060000
END:STANDARD
BEGIN:DAYLIGHT
TZOFFSETFROM:-0500
TZOFFSETTO:-0400
TZNAME:EDT
DTSTART:20250309T070000
END:DAYLIGHT
BEGIN:STANDARD
TZOFFSETFROM:-0400
TZOFFSETTO:-0500
TZNAME:EST
DTSTART:20251102T060000
END:STANDARD
BEGIN:DAYLIGHT
TZOFFSETFROM:-0500
TZOFFSETTO:-0400
TZNAME:EDT
DTSTART:20260308T070000
END:DAYLIGHT
BEGIN:STANDARD
TZOFFSETFROM:-0400
TZOFFSETTO:-0500
TZNAME:EST
DTSTART:20261101T060000
END:STANDARD
END:VTIMEZONE
BEGIN:VEVENT
DTSTART;TZID=America/New_York:20250529T150000
DTEND;TZID=America/New_York:20250529T170000
DTSTAMP:20260422T122615
CREATED:20250512T230920Z
LAST-MODIFIED:20250513T191617Z
UID:18175-1748530800-1748538000@lcpaver.com
SUMMARY:Light It Right: Mastering Outdoor Lighting | Bluffton/HHI Area | May 29
DESCRIPTION:Get ready to illuminate your hardscape projects with confidence. Lowcountry Paver is hosting two exclusive lighting installation courses featuring in-lite Outdoor Lighting—designed for contractors\, installers\, and landscape pros looking to elevate their outdoor spaces with expert lighting techniques. \nThis hands-on training will cover layout planning\, wiring\, fixture selection\, and real-world installation tips using in-lite’s innovative\, low-voltage lighting systems. Whether you’re new to lighting or want to sharpen your skills\, this is your chance to learn directly from the experts. \n📍 Bluffton/Hilton Head AreaWednesday\, May 29 | 3:00 PM – 5:00 PMHampton Inn & Suites Bluffton–Sun City29 William Pope Dr\, Bluffton\, SC \nWhat to Expect:• Live product demos with in-lite lighting specialists• Hands-on installation practice using real materials• Pro tips for seamless lighting integration in patios\, walls\, and landscapes• Q&A and project consultations \nFree to attend. Spots are limited—RSVP now to secure your seat!
URL:https://lcpaver.com/event/light-it-right-mastering-outdoor-lighting-bluffton-hhi-area-may-29/
LOCATION:Hampton Inn & Suites Bluffton-Sun City\, 29 William Pope Dr.\, Bluffton\, SC\, SC\, 29909\, United States
ATTACH;FMTTYPE=image/webp:https://lcpaver.com/wp-content/uploads/2025/05/Light-it-Right-May-2025-Email-Instagram-Post-45.webp
END:VEVENT
END:VCALENDAR