BEGIN:VCALENDAR
VERSION:2.0
PRODID:-//Lowcountry Paver - ECPv6.15.17.1//NONSGML v1.0//EN
CALSCALE:GREGORIAN
METHOD:PUBLISH
X-ORIGINAL-URL:https://lcpaver.com
X-WR-CALDESC:Events for Lowcountry Paver
REFRESH-INTERVAL;VALUE=DURATION:PT1H
X-Robots-Tag:noindex
X-PUBLISHED-TTL:PT1H
BEGIN:VTIMEZONE
TZID:UTC
BEGIN:STANDARD
TZOFFSETFROM:+0000
TZOFFSETTO:+0000
TZNAME:UTC
DTSTART:20230101T000000
END:STANDARD
END:VTIMEZONE
BEGIN:VEVENT
DTSTART;TZID=UTC:20241206T160000
DTEND;TZID=UTC:20241206T180000
DTSTAMP:20260422T225952
CREATED:20241106T235655Z
LAST-MODIFIED:20241107T204735Z
UID:17023-1733500800-1733508000@lcpaver.com
SUMMARY:LCP Friends & Family | Customer Appreciation Day
DESCRIPTION:Stop by for an afternoon of food & fun with the LCP team as we thank our installers for their hard work and dedication!\nJoin us for food\, fun\, and giveaways as we celebrate the incredible community that makes our success possible. Bring your team\, relax\, and let us show our appreciation for all that you do. We can’t wait to celebrate with you!
URL:https://lcpaver.com/event/lcp-friends-family-event/
LOCATION:Lowcountry Paver\, 535 Stiney Road\, Hardeeville\, SC\, 29927\, United States
ATTACH;FMTTYPE=image/webp:https://lcpaver.com/wp-content/uploads/2024/11/friends-family-event-126-1920-x-1080-px-2.webp
END:VEVENT
END:VCALENDAR