BEGIN:VCALENDAR
VERSION:2.0
PRODID:-//Lowcountry Paver - ECPv6.15.17.1//NONSGML v1.0//EN
CALSCALE:GREGORIAN
METHOD:PUBLISH
X-ORIGINAL-URL:https://lcpaver.com
X-WR-CALDESC:Events for Lowcountry Paver
REFRESH-INTERVAL;VALUE=DURATION:PT1H
X-Robots-Tag:noindex
X-PUBLISHED-TTL:PT1H
BEGIN:VTIMEZONE
TZID:UTC
BEGIN:STANDARD
TZOFFSETFROM:+0000
TZOFFSETTO:+0000
TZNAME:UTC
DTSTART:20230101T000000
END:STANDARD
END:VTIMEZONE
BEGIN:VEVENT
DTSTART;TZID=UTC:20240411T150000
DTEND;TZID=UTC:20240411T170000
DTSTAMP:20260423T194855
CREATED:20240312T215941Z
LAST-MODIFIED:20240314T175918Z
UID:15591-1712847600-1712854800@lcpaver.com
SUMMARY:Lowcountry Turf: Installation 101 - CHS
DESCRIPTION:Learn the ins and outs on how to prepare a job site\, install artificial turf\, & more. You’ll have all the information you need to take your next project to another level: whether it calls for a putting green\, a pet-friendly area\, or a full backyard replacement\, you’ll be ready. \nFREE TO ATTEND. \nHappy Hour to follow instructional seminar! \nWHEN:\nApril 11\, 2024 at 3:00PM \nWHERE:\nCambria Hotel Summerville-Charleston\n405 Sigma Drive\, Summerville\, SC
URL:https://lcpaver.com/event/turf-installation-chs/
LOCATION:Cambria Hotel Summerville-Charleston\, 405 Sigma Drive\, Summerville\, SC\, 29486\, United States
ATTACH;FMTTYPE=image/webp:https://lcpaver.com/wp-content/uploads/2024/03/LCT_Installation-101-1.webp
ORGANIZER;CN="Lowcountry Turf":MAILTO:marketing@lcpaver.com
END:VEVENT
END:VCALENDAR